BEGIN:VCALENDAR
VERSION:2.0
METHOD:PUBLISH
BEGIN:VEVENT
SUMMARY:4 KM/H
DESCRIPTION:Ein preisgekrönter Vortrag von Johannes Schwarz, voller Selbstironie, Humor und mit einer Prise Spiritualität.
CLASS:PUBLIC
DTSTART:20221211T150000Z
DTEND:20221211T150000Z
LOCATION:KUK - Saal 1, Schlossplatz 9, 5000 Aarau
END:VEVENT
END:VCALENDAR