BEGIN:VCALENDAR
VERSION:2.0
METHOD:PUBLISH
BEGIN:VEVENT
SUMMARY:4 KM/H
DESCRIPTION:Ein preisgekrönter Vortrag von Johannes Schwarz, voller Selbstironie, Humor und mit einer Prise Spiritualität.
CLASS:PUBLIC
DTSTART:20221206T183000Z
DTEND:20221206T183000Z
LOCATION:gate27, Theaterstrasse 27, 8400 Winterthur
END:VEVENT
END:VCALENDAR