BEGIN:VCALENDAR
VERSION:2.0
METHOD:PUBLISH
BEGIN:VEVENT
SUMMARY:VERGESSENE TIERE
DESCRIPTION:National Geographic Fotograf Klaus Nigge begibt sich auf die Spur der geheimnisvollsten Tiere unseres Planeten.
CLASS:PUBLIC
DTSTART:20221110T183000Z
DTEND:20221110T183000Z
LOCATION:Aula Freies Gymnasium, Beaulieustrasse 55, 3012 Bern
END:VEVENT
END:VCALENDAR