BEGIN:VCALENDAR
VERSION:2.0
METHOD:PUBLISH
BEGIN:VEVENT
SUMMARY:VERGESSENE TIERE
DESCRIPTION:National Geographic Fotograf Klaus Nigge begibt sich auf die Spur der geheimnisvollsten Tiere unseres Planeten.
CLASS:PUBLIC
DTSTART:20221107T183000Z
DTEND:20221107T183000Z
LOCATION:Verkehrshaus, Filmtheater, Lidostrasse 5, 6000 Luzern
END:VEVENT
END:VCALENDAR