BEGIN:VCALENDAR
VERSION:2.0
METHOD:PUBLISH
BEGIN:VEVENT
SUMMARY:VERGESSENE TIERE
DESCRIPTION:National Geographic Fotograf Klaus Nigge begibt sich auf die Spur der geheimnisvollsten Tiere unseres Planeten.
CLASS:PUBLIC
DTSTART:20221105T140000Z
DTEND:20221105T140000Z
LOCATION:Würth Haus Rorschach, Churerstrasse 10, 9400 Rorschach
END:VEVENT
END:VCALENDAR