BEGIN:VCALENDAR
VERSION:2.0
METHOD:PUBLISH
BEGIN:VEVENT
SUMMARY:TRANSSIB
DESCRIPTION:Mit Holger Fritzsche und der Transsibirischen Eisenbahn auf Entdeckungsreise von Moskau bis nach Peking.
CLASS:PUBLIC
DTSTART:20211108T183000Z
DTEND:20211108T183000Z
LOCATION:Verkehrshaus, Filmtheater, Lidostrasse 5, 6000 Luzern
END:VEVENT
END:VCALENDAR