BEGIN:VCALENDAR
VERSION:2.0
METHOD:PUBLISH
BEGIN:VEVENT
SUMMARY:TASMANIEN
DESCRIPTION:Der Biologe und Naturfotograf Daniel Spohn erkundet die sagenhafte Wildnis Tasmaniens.
CLASS:PUBLIC
DTSTART:20220201T183000Z
DTEND:20220201T183000Z
LOCATION:Volkshaus, Weisser Saal, Stauffacherstrasse 60, 8004 Zürich
END:VEVENT
END:VCALENDAR