BEGIN:VCALENDAR
VERSION:2.0
METHOD:PUBLISH
BEGIN:VEVENT
SUMMARY:TASMANIEN
DESCRIPTION:Der Biologe und Naturfotograf Daniel Spohn erkundet die sagenhafte Wildnis Tasmaniens.
CLASS:PUBLIC
DTSTART:20220131T183000Z
DTEND:20220131T183000Z
LOCATION:gate27, Theaterstrasse 27, 8400 Winterthur
END:VEVENT
END:VCALENDAR