BEGIN:VCALENDAR
VERSION:2.0
METHOD:PUBLISH
BEGIN:VEVENT
SUMMARY:TASMANIEN
DESCRIPTION:Der Biologe und Naturfotograf Daniel Spohn erkundet die sagenhafte Wildnis Tasmaniens.
CLASS:PUBLIC
DTSTART:20220204T183000Z
DTEND:20220204T183000Z
LOCATION:KUK - Saal 1, Schlossplatz 9, 5000 Aarau
END:VEVENT
END:VCALENDAR