BEGIN:VCALENDAR
VERSION:2.0
METHOD:PUBLISH
BEGIN:VEVENT
SUMMARY:SÜDAMERIKA
DESCRIPTION:Der Fotojournalist Heiko Beyer durchquert den gesamten Kontinent: Von Venezuela, über Kolumbien, Ecuador, Peru und Bolivien, bis nach Argentinien und Chile.
CLASS:PUBLIC
DTSTART:20220116T123000Z
DTEND:20220116T123000Z
LOCATION:Volkshaus, Theatersaal, Stauffacherstrasse 60, 8004 Zürich
END:VEVENT
END:VCALENDAR