BEGIN:VCALENDAR
VERSION:2.0
METHOD:PUBLISH
BEGIN:VEVENT
SUMMARY:NATURSCHAUSPIELE
DESCRIPTION:Ivo Moosberger ist einer, den es immer weiterzieht. Dabei hinterlässt er wunderschöne, aber vergängliche Spuren.
CLASS:PUBLIC
DTSTART:20211031T110000Z
DTEND:20211031T110000Z
LOCATION:Kursaal - Arena, Kornhausstrasse 3, 3000 Bern
END:VEVENT
END:VCALENDAR