BEGIN:VCALENDAR
VERSION:2.0
METHOD:PUBLISH
BEGIN:VEVENT
SUMMARY:MISCHN IMPOSSIBLE
DESCRIPTION:Zwei Filmemacher und Comedians aus Ostdeutschland bauen einen Rollstuhl zum Reisemobil um und starten ihre wahnwitzige Fahrt zur letzten Bratwurst vor Amerika.
CLASS:PUBLIC
DTSTART:20230305T160000Z
DTEND:20230305T160000Z
LOCATION:Würth Haus Rorschach, Churerstrasse 10, 9400 Rorschach
END:VEVENT
END:VCALENDAR