BEGIN:VCALENDAR
VERSION:2.0
METHOD:PUBLISH
BEGIN:VEVENT
SUMMARY:MISCHN IMPOSSIBLE
DESCRIPTION:Zwei Filmemacher und Comedians aus Ostdeutschland bauen einen Rollstuhl zum Reisemobil um und starten ihre wahnwitzige Fahrt zur letzten Bratwurst vor Amerika.
CLASS:PUBLIC
DTSTART:20230303T183000Z
DTEND:20230303T183000Z
LOCATION:Titthof, Tittwiesenstrasse 8, 7000 Chur
END:VEVENT
END:VCALENDAR