BEGIN:VCALENDAR
VERSION:2.0
METHOD:PUBLISH
BEGIN:VEVENT
SUMMARY:LAUFEN. ESSEN. SCHLAFEN.
DESCRIPTION:Christine Thürmer zeigt einige Wiederholungstermine ihres Kult-Vortrags, mit dem sie 2019 die Discovery Days gewonnen hat.
CLASS:PUBLIC
DTSTART:20220116T160000Z
DTEND:20220116T160000Z
LOCATION:Aula Freies Gymnasium, Beaulieustrasse 55, 3012 Bern
END:VEVENT
END:VCALENDAR