BEGIN:VCALENDAR
VERSION:2.0
METHOD:PUBLISH
BEGIN:VEVENT
SUMMARY:KUBA
DESCRIPTION:Private Einblicke in das Leben der Kubaner, Bilder von den schönsten Plätzen der Insel und Live-Gesang einer echten Habanera.
CLASS:PUBLIC
DTSTART:20211124T183000Z
DTEND:20211124T183000Z
LOCATION:gate27, Theaterstrasse 27, 8400 Winterthur
END:VEVENT
END:VCALENDAR