BEGIN:VCALENDAR
VERSION:2.0
METHOD:PUBLISH
BEGIN:VEVENT
SUMMARY:KUBA
DESCRIPTION:Private Einblicke in das Leben der Kubaner, Bilder von den schönsten Plätzen der Insel und Live-Gesang einer echten Habanera.
CLASS:PUBLIC
DTSTART:20211123T183000Z
DTEND:20211123T183000Z
LOCATION:Verkehrshaus, Filmtheater, Lidostrasse 5, 6000 Luzern
END:VEVENT
END:VCALENDAR