BEGIN:VCALENDAR
VERSION:2.0
METHOD:PUBLISH
BEGIN:VEVENT
SUMMARY:KIRGISTAN
DESCRIPTION:Ein preisgekrönter Vortrag von Abenteurer und Fotograf Christian Bock über die Schönheit der Bergwelt und deren Bewohner.
CLASS:PUBLIC
DTSTART:20220311T183000Z
DTEND:20220311T183000Z
LOCATION:Titthof, Tittwiesenstrasse 8, 7000 Chur
END:VEVENT
END:VCALENDAR