BEGIN:VCALENDAR
VERSION:2.0
METHOD:PUBLISH
BEGIN:VEVENT
SUMMARY:SAGENHAFTES ISLAND
DESCRIPTION:Olaf Krüger erkundet die Insel der Vulkane, Gletscher, Nordlichter und Wasserfälle. Ein Highlight für Naturliebhaber, Fotografen und für alle Island-Fans.
CLASS:PUBLIC
DTSTART:20230122T160000Z
DTEND:20230122T160000Z
LOCATION:Paraplegiker Zentrum, Guido A. Zäch Strasse 1, 6207 Nottwil
END:VEVENT
END:VCALENDAR