BEGIN:VCALENDAR
VERSION:2.0
METHOD:PUBLISH
BEGIN:VEVENT
SUMMARY:SAGENHAFTES ISLAND
DESCRIPTION:Olaf Krüger erkundet die Insel der Vulkane, Gletscher, Nordlichter und Wasserfälle. Ein Highlight für Naturliebhaber, Fotografen und für alle Island-Fans.
CLASS:PUBLIC
DTSTART:20230110T183000Z
DTEND:20230110T183000Z
LOCATION:gate27, Theaterstrasse 27, 8400 Winterthur
END:VEVENT
END:VCALENDAR