BEGIN:VCALENDAR
VERSION:2.0
METHOD:PUBLISH
BEGIN:VEVENT
SUMMARY:IRAK
DESCRIPTION:Fotograf David Lohmüller präsentiert eine tiefgründige und hochaktuelle Reportage über das Leben im Nordirak.
CLASS:PUBLIC
DTSTART:20220221T183000Z
DTEND:20220221T183000Z
LOCATION:Volkshaus, Weisser Saal, Stauffacherstrasse 60, 8004 Zürich
END:VEVENT
END:VCALENDAR