BEGIN:VCALENDAR
VERSION:2.0
METHOD:PUBLISH
BEGIN:VEVENT
SUMMARY:EUROPAS HOHER NORDEN
DESCRIPTION:Nur am 24.09.2026 zur Eröffnung der Discovery Days: Die Fotografen Petra und Gerhard Zwerger-Schoner erkunden die unberührte Natur Skandinaviens und Islands.
CLASS:PUBLIC
DTSTART:20211027T173000Z
DTEND:20211027T173000Z
LOCATION:Volkshaus, Theatersaal, Stauffacherstrasse 60, 8004 Zürich
END:VEVENT
END:VCALENDAR