BEGIN:VCALENDAR
VERSION:2.0
METHOD:PUBLISH
BEGIN:VEVENT
SUMMARY:EIN ESEL ZUM PFERDE STEHLEN
DESCRIPTION:Schauspielerin Lotta Lubkoll, die zuvor noch nie in den Bergen war, wandert mit Esel Jonny über die Alpen. Ihr Vortrag gewann den 1. Preis an den Discovery Days.
CLASS:PUBLIC
DTSTART:20230130T183000Z
DTEND:20230130T183000Z
LOCATION:Weisses Kreuz, Marktplatz 15, 3250 Lyss
END:VEVENT
END:VCALENDAR