BEGIN:VCALENDAR
VERSION:2.0
METHOD:PUBLISH
BEGIN:VEVENT
SUMMARY:DIE WELT VON OBEN
DESCRIPTION:Der bekannte Schweizer Fotograf Stefan Forster zeigt die Erde aus der Vogelperspektive. Das Highlight zur Eröffnung der Discovery Days 2025!
CLASS:PUBLIC
DTSTART:20220129T183000Z
DTEND:20220129T183000Z
LOCATION:Burgsaal, Burgstrasse 8, 3600 Thun
END:VEVENT
END:VCALENDAR