BEGIN:VCALENDAR
VERSION:2.0
METHOD:PUBLISH
BEGIN:VEVENT
SUMMARY:DIE WELT VON OBEN
DESCRIPTION:Der bekannte Schweizer Fotograf Stefan Forster zeigt die Erde aus der Vogelperspektive. Das Highlight zur Eröffnung der Discovery Days 2025!
CLASS:PUBLIC
DTSTART:20220116T160000Z
DTEND:20220116T160000Z
LOCATION:Volkshaus, Theatersaal, Stauffacherstrasse 60, 8004 Zürich
END:VEVENT
END:VCALENDAR