BEGIN:VCALENDAR
VERSION:2.0
METHOD:PUBLISH
BEGIN:VEVENT
SUMMARY:DIE GEILSTE LÜCKE IM LEBENSLAUF
DESCRIPTION:Wie ein Gummibärchen auf Ecstasy erzählt Nick Martin von einer verrückten Reise, die sein Leben für immer verändern sollte. Nur für 4 Shows in der Schweiz!
CLASS:PUBLIC
DTSTART:20221120T160000Z
DTEND:20221120T160000Z
LOCATION:Aula Freies Gymnasium, Beaulieustrasse 55, 3012 Bern
END:VEVENT
END:VCALENDAR