BEGIN:VCALENDAR
VERSION:2.0
METHOD:PUBLISH
BEGIN:VEVENT
SUMMARY:CLAN DER DELFINE
DESCRIPTION:Der bekannte Tierfilmer Ulf Marquardt erzählt berührende Geschichten aus dem Leben der Delfine im Roten Meer. 
CLASS:PUBLIC
DTSTART:20211127T150000Z
DTEND:20211127T150000Z
LOCATION:Burgsaal, Burgstrasse 8, 3600 Thun
END:VEVENT
END:VCALENDAR