BEGIN:VCALENDAR
VERSION:2.0
METHOD:PUBLISH
BEGIN:VEVENT
SUMMARY:CLAN DER DELFINE
DESCRIPTION:Der bekannte Tierfilmer Ulf Marquardt erzählt berührende Geschichten aus dem Leben der Delfine im Roten Meer. 
CLASS:PUBLIC
DTSTART:20211128T123000Z
DTEND:20211128T123000Z
LOCATION:Aula Freies Gymnasium, Beaulieustrasse 55, 3012 Bern
END:VEVENT
END:VCALENDAR