BEGIN:VCALENDAR
VERSION:2.0
METHOD:PUBLISH
BEGIN:VEVENT
SUMMARY:BIS ANS ENDE DER WELT
DESCRIPTION:Eine preisgekrönte Geschichte von Claudia und Jürgen Kirchberger und eines der grössten Segelabenteuer unserer Zeit. Wiederholung wegen grossen Erfolgs!
CLASS:PUBLIC
DTSTART:20230215T183000Z
DTEND:20230215T183000Z
LOCATION:Volkshaus, Rebgasse 12, 4000 Basel
END:VEVENT
END:VCALENDAR