BEGIN:VCALENDAR
VERSION:2.0
METHOD:PUBLISH
BEGIN:VEVENT
SUMMARY:Tor zur ANTARKTIS
DESCRIPTION:Die Fotografin Kerstin Langenberger erzählt von Walfängern, Naturschutz, sagenhafter Landschaft und dem Arbeitsalltag auf der Pinguininsel.
CLASS:PUBLIC
DTSTART:20220211T183000Z
DTEND:20220211T183000Z
LOCATION:KUK - Saal 1, Schlossplatz 9, 5000 Aarau
END:VEVENT
END:VCALENDAR