BEGIN:VCALENDAR
VERSION:2.0
METHOD:PUBLISH
BEGIN:VEVENT
SUMMARY:Tor zur ANTARKTIS
DESCRIPTION:Die Fotografin Kerstin Langenberger erzählt von Walfängern, Naturschutz, sagenhafter Landschaft und dem Arbeitsalltag auf der Pinguininsel.
CLASS:PUBLIC
DTSTART:20220210T183000Z
DTEND:20220210T183000Z
LOCATION:Aula Freies Gymnasium, Beaulieustrasse 55, 3012 Bern
END:VEVENT
END:VCALENDAR