BEGIN:VCALENDAR
VERSION:2.0
METHOD:PUBLISH
BEGIN:VEVENT
SUMMARY:2000 JAHRE SPÄTER
DESCRIPTION:Der Poetry Slammer Nils Straatmann reist als Backpacker auf Jesu Spuren durch den Nahen Osten.
CLASS:PUBLIC
DTSTART:20211211T183000Z
DTEND:20211211T183000Z
LOCATION:KUK - Saal 2, Schlossplatz 9, 5000 Aarau
END:VEVENT
END:VCALENDAR